BEGIN:VCALENDAR
VERSION:2.0
PRODID:-//RIGHTHERE//CALENDARIZE IT V3.2//EN
BEGIN:VTIMEZONE
TZID:America/Boise
BEGIN:STANDARD
DTSTART:20251102T080000
TZOFFSETFROM:-0600
TZOFFSETTO:-0700
TZNAME:MST
END:STANDARD
BEGIN:DAYLIGHT
DTSTART:20260308T090000
TZOFFSETFROM:-0700
TZOFFSETTO:-0600
TZNAME:MDT
END:DAYLIGHT
BEGIN:STANDARD
DTSTART:20261101T080000
TZOFFSETFROM:-0600
TZOFFSETTO:-0700
TZNAME:MST
END:STANDARD
END:VTIMEZONE
BEGIN:VEVENT
UID:4659-events@goharlowsmccall.com
DTSTART;TZID=America/Boise:20170903T133000
DTEND;TZID=America/Boise:20170903T190000
DTSTAMP;TZID=America/Boise:20170315T063120
SUMMARY:Sunny Poppler and Burton Jones Wedding- Jug Mt.- 100PAX- Bus 54/319
 7- Jeff
URL:https://goharlowsmccall.com/events/sunny-poppler-and-burton-jones-weddi
 ng-jug-mt-100pax-3pms/
END:VEVENT
END:VCALENDAR