BEGIN:VCALENDAR
VERSION:2.0
PRODID:-//RIGHTHERE//CALENDARIZE IT V3.2//EN
BEGIN:VTIMEZONE
TZID:America/Boise
BEGIN:STANDARD
DTSTART:20251102T080000
TZOFFSETFROM:-0600
TZOFFSETTO:-0700
TZNAME:MST
END:STANDARD
BEGIN:DAYLIGHT
DTSTART:20260308T090000
TZOFFSETFROM:-0700
TZOFFSETTO:-0600
TZNAME:MDT
END:DAYLIGHT
BEGIN:STANDARD
DTSTART:20261101T080000
TZOFFSETFROM:-0600
TZOFFSETTO:-0700
TZNAME:MST
END:STANDARD
END:VTIMEZONE
BEGIN:VEVENT
UID:471-events@goharlowsmccall.com
DTSTART;TZID=America/Boise:20160119T084500
DTEND;TZID=America/Boise:20160119T000000
DTSTAMP;TZID=America/Boise:20151020T144920
SUMMARY:BOISE SCHOOLS – JUAN # 55 – AM Sub-Jill
DESCRIPTION:They want #54 specifically so they can watch a movie. Load at t
 he Boise School (map included) @ 8:45am and take them to the Ponderosa Par
 k MOSS Outdoor school in McCall- Return on the 22nd.  School is located at
 908 E Jefferson St. in downtown Boise.\n
URL:https://goharlowsmccall.com/events/boise-schools/
LOCATION:Boise
END:VEVENT
END:VCALENDAR