BEGIN:VCALENDAR
VERSION:2.0
PRODID:-//RIGHTHERE//CALENDARIZE IT V3.2//EN
BEGIN:VTIMEZONE
TZID:America/Boise
BEGIN:STANDARD
DTSTART:20251102T080000
TZOFFSETFROM:-0600
TZOFFSETTO:-0700
TZNAME:MST
END:STANDARD
BEGIN:DAYLIGHT
DTSTART:20260308T090000
TZOFFSETFROM:-0700
TZOFFSETTO:-0600
TZNAME:MDT
END:DAYLIGHT
BEGIN:STANDARD
DTSTART:20261101T080000
TZOFFSETFROM:-0600
TZOFFSETTO:-0700
TZNAME:MST
END:STANDARD
END:VTIMEZONE
BEGIN:VEVENT
UID:502-events@goharlowsmccall.com
DTSTART;TZID=America/Boise:20160716T173000
DTEND;TZID=America/Boise:20160716T000000
DTSTAMP;TZID=America/Boise:20151020T154418
SUMMARY:CANCELLED PER E-MAIL 4-6-16\, Jack   WATSON WEDDING
URL:https://goharlowsmccall.com/events/watson-wedding/
END:VEVENT
END:VCALENDAR