BEGIN:VCALENDAR
VERSION:2.0
PRODID:-//RIGHTHERE//CALENDARIZE IT V3.2//EN
BEGIN:VTIMEZONE
TZID:America/Boise
BEGIN:STANDARD
DTSTART:20251102T080000
TZOFFSETFROM:-0600
TZOFFSETTO:-0700
TZNAME:MST
END:STANDARD
BEGIN:DAYLIGHT
DTSTART:20260308T090000
TZOFFSETFROM:-0700
TZOFFSETTO:-0600
TZNAME:MDT
END:DAYLIGHT
BEGIN:STANDARD
DTSTART:20261101T080000
TZOFFSETFROM:-0600
TZOFFSETTO:-0700
TZNAME:MST
END:STANDARD
END:VTIMEZONE
BEGIN:VEVENT
UID:510-events@goharlowsmccall.com
DTSTART;TZID=America/Boise:20160723T153000
DTEND;TZID=America/Boise:20160723T200000
DTSTAMP;TZID=America/Boise:20151020T154920
SUMMARY:TWOHIG – WILTSE WEDDING – bus
DESCRIPTION:Want to reserve at least the PM and will re-evaluate as they ge
 t closer to event.\n\nLocation:  	MCCALL TO BRUNDAGE
URL:https://goharlowsmccall.com/events/twohig-wittsy-wedding-4225/
END:VEVENT
END:VCALENDAR