BEGIN:VCALENDAR
VERSION:2.0
PRODID:-//RIGHTHERE//CALENDARIZE IT V3.2//EN
BEGIN:VTIMEZONE
TZID:America/Boise
BEGIN:STANDARD
DTSTART:20251102T080000
TZOFFSETFROM:-0600
TZOFFSETTO:-0700
TZNAME:MST
END:STANDARD
BEGIN:DAYLIGHT
DTSTART:20260308T090000
TZOFFSETFROM:-0700
TZOFFSETTO:-0600
TZNAME:MDT
END:DAYLIGHT
BEGIN:STANDARD
DTSTART:20261101T080000
TZOFFSETFROM:-0600
TZOFFSETTO:-0700
TZNAME:MST
END:STANDARD
END:VTIMEZONE
BEGIN:VEVENT
UID:5199-events@goharlowsmccall.com
DTSTART;TZID=America/Boise:20170805T213000
DTEND;TZID=America/Boise:20170805T223000
DTSTAMP;TZID=America/Boise:20170522T081416
SUMMARY:Kameshige/Gluch Wedding- Blackhawk- 42PAX- #55- Heather
URL:https://goharlowsmccall.com/events/kameshigegluch-wedding-blackhawk-100
 pax-2pms/
END:VEVENT
END:VCALENDAR