BEGIN:VCALENDAR
VERSION:2.0
PRODID:-//RIGHTHERE//CALENDARIZE IT V3.2//EN
BEGIN:VTIMEZONE
TZID:America/Boise
BEGIN:STANDARD
DTSTART:20251102T080000
TZOFFSETFROM:-0600
TZOFFSETTO:-0700
TZNAME:MST
END:STANDARD
BEGIN:DAYLIGHT
DTSTART:20260308T090000
TZOFFSETFROM:-0700
TZOFFSETTO:-0600
TZNAME:MDT
END:DAYLIGHT
BEGIN:STANDARD
DTSTART:20261101T080000
TZOFFSETFROM:-0600
TZOFFSETTO:-0700
TZNAME:MST
END:STANDARD
END:VTIMEZONE
BEGIN:VEVENT
UID:5529-events@goharlowsmccall.com
DTSTART;TZID=America/Boise:20170714T174500
DTEND;TZID=America/Boise:20170714T214500
DTSTAMP;TZID=America/Boise:20170627T092946
SUMMARY:Rebholtz/Wall Rehearsal at Ruperts- 25PAX- #4225Dave
URL:https://goharlowsmccall.com/events/rebholtzwall-rehearsal-at-ruperts-25
 pax-4225/
ORGANIZER;CN=Dave:
LOCATION:McCall
END:VEVENT
END:VCALENDAR