BEGIN:VCALENDAR
VERSION:2.0
PRODID:-//RIGHTHERE//CALENDARIZE IT V3.2//EN
BEGIN:VTIMEZONE
TZID:America/Boise
BEGIN:STANDARD
DTSTART:20251102T080000
TZOFFSETFROM:-0600
TZOFFSETTO:-0700
TZNAME:MST
END:STANDARD
BEGIN:DAYLIGHT
DTSTART:20260308T090000
TZOFFSETFROM:-0700
TZOFFSETTO:-0600
TZNAME:MDT
END:DAYLIGHT
BEGIN:STANDARD
DTSTART:20261101T080000
TZOFFSETFROM:-0600
TZOFFSETTO:-0700
TZNAME:MST
END:STANDARD
END:VTIMEZONE
BEGIN:VEVENT
UID:5557-events@goharlowsmccall.com
DTSTART;TZID=America/Boise:20170811T171500
DTEND;TZID=America/Boise:20170811T210000
DTSTAMP;TZID=America/Boise:20170628T144316
SUMMARY:Shearer & Gardner Rehearsal dinner- McCall Brewery- 42Pax- #54Dave
URL:https://goharlowsmccall.com/events/shearer-gardner-rehearsal-dinner-mcc
 all-brewery-42pax-1bus/
ORGANIZER;CN=Dave:
LOCATION:McCall
END:VEVENT
END:VCALENDAR