BEGIN:VCALENDAR
VERSION:2.0
PRODID:-//RIGHTHERE//CALENDARIZE IT V3.2//EN
BEGIN:VTIMEZONE
TZID:America/Boise
BEGIN:STANDARD
DTSTART:20251102T080000
TZOFFSETFROM:-0600
TZOFFSETTO:-0700
TZNAME:MST
END:STANDARD
BEGIN:DAYLIGHT
DTSTART:20260308T090000
TZOFFSETFROM:-0700
TZOFFSETTO:-0600
TZNAME:MDT
END:DAYLIGHT
BEGIN:STANDARD
DTSTART:20261101T080000
TZOFFSETFROM:-0600
TZOFFSETTO:-0700
TZNAME:MST
END:STANDARD
END:VTIMEZONE
BEGIN:VEVENT
UID:6613-events@goharlowsmccall.com
DTSTART;TZID=America/Boise:20170929T083000
DTEND;TZID=America/Boise:20170929T143000
DTSTAMP;TZID=America/Boise:20170921T215722
SUMMARY:PLMS-Quaker Hill 6th Grade-81pax-#18Christy\,#7Cynthia
URL:https://goharlowsmccall.com/events/plms-quaker-hill-6th-grade-81pax-18b
 randi7cynthia/
ORGANIZER;CN=Cynthia:
LOCATION:PLMS - Payette Lakes Middle School
END:VEVENT
END:VCALENDAR