BEGIN:VCALENDAR
VERSION:2.0
PRODID:-//RIGHTHERE//CALENDARIZE IT V3.2//EN
BEGIN:VTIMEZONE
TZID:America/Boise
BEGIN:STANDARD
DTSTART:20251102T080000
TZOFFSETFROM:-0600
TZOFFSETTO:-0700
TZNAME:MST
END:STANDARD
BEGIN:DAYLIGHT
DTSTART:20260308T090000
TZOFFSETFROM:-0700
TZOFFSETTO:-0600
TZNAME:MDT
END:DAYLIGHT
BEGIN:STANDARD
DTSTART:20261101T080000
TZOFFSETFROM:-0600
TZOFFSETTO:-0700
TZNAME:MST
END:STANDARD
END:VTIMEZONE
BEGIN:VEVENT
UID:6874-events@goharlowsmccall.com
DTSTART;TZID=America/Boise:20180824T172000
DTEND;TZID=America/Boise:20180824T000000
DTSTAMP;TZID=America/Boise:20171010T161054
SUMMARY:Cale/Martin Wedding Dinner 150PAX\, 4 Drivers / canceled
URL:https://goharlowsmccall.com/events/calemartin-wedding-dinner/
END:VEVENT
END:VCALENDAR