BEGIN:VCALENDAR
VERSION:2.0
PRODID:-//RIGHTHERE//CALENDARIZE IT V3.2//EN
BEGIN:VTIMEZONE
TZID:America/Boise
BEGIN:STANDARD
DTSTART:20251102T080000
TZOFFSETFROM:-0600
TZOFFSETTO:-0700
TZNAME:MST
END:STANDARD
BEGIN:DAYLIGHT
DTSTART:20260308T090000
TZOFFSETFROM:-0700
TZOFFSETTO:-0600
TZNAME:MDT
END:DAYLIGHT
BEGIN:STANDARD
DTSTART:20261101T080000
TZOFFSETFROM:-0600
TZOFFSETTO:-0700
TZNAME:MST
END:STANDARD
END:VTIMEZONE
BEGIN:VEVENT
UID:6975-events@goharlowsmccall.com
DTSTART;VALUE=DATE:20180721
DTEND;VALUE=DATE:20180721
DTSTAMP;TZID=America/Boise:20171019T133452
SUMMARY:Elgin/Dimmitt Wedding – Payette Lake Club to ShoreLodge 2Buses 10
 0PAX JeO\, SaL #54\, 56
URL:https://goharlowsmccall.com/events/elgindimmitt-wedding-payette-lake-cl
 ub-to-shorelodge-2buses-50pax/
END:VEVENT
END:VCALENDAR