BEGIN:VCALENDAR
VERSION:2.0
PRODID:-//RIGHTHERE//CALENDARIZE IT V3.2//EN
BEGIN:VTIMEZONE
TZID:America/Boise
BEGIN:STANDARD
DTSTART:20251102T080000
TZOFFSETFROM:-0600
TZOFFSETTO:-0700
TZNAME:MST
END:STANDARD
BEGIN:DAYLIGHT
DTSTART:20260308T090000
TZOFFSETFROM:-0700
TZOFFSETTO:-0600
TZNAME:MDT
END:DAYLIGHT
BEGIN:STANDARD
DTSTART:20261101T080000
TZOFFSETFROM:-0600
TZOFFSETTO:-0700
TZNAME:MST
END:STANDARD
END:VTIMEZONE
BEGIN:VEVENT
UID:7220-events@goharlowsmccall.com
DTSTART;TZID=America/Boise:20180616T144500
DTEND;TZID=America/Boise:20180616T220000
DTSTAMP;TZID=America/Boise:20171030T154239
SUMMARY:Mollerup/Hudson Wedding – Local Motels to Roseberry 3-44PAX  ShS 
 #56\, DoT #54\, NiS #11
URL:https://goharlowsmccall.com/events/molleruphudson-wedding-local-motels-
 to-roseberry-44pax-25pax/
END:VEVENT
END:VCALENDAR