BEGIN:VCALENDAR
VERSION:2.0
PRODID:-//RIGHTHERE//CALENDARIZE IT V3.2//EN
BEGIN:VTIMEZONE
TZID:America/Boise
BEGIN:STANDARD
DTSTART:20251102T080000
TZOFFSETFROM:-0600
TZOFFSETTO:-0700
TZNAME:MST
END:STANDARD
BEGIN:DAYLIGHT
DTSTART:20260308T090000
TZOFFSETFROM:-0700
TZOFFSETTO:-0600
TZNAME:MDT
END:DAYLIGHT
BEGIN:STANDARD
DTSTART:20261101T080000
TZOFFSETFROM:-0600
TZOFFSETTO:-0700
TZNAME:MST
END:STANDARD
END:VTIMEZONE
BEGIN:VEVENT
UID:7280-events@goharlowsmccall.com
DTSTART;TZID=America/Boise:20180721T145000
DTEND;TZID=America/Boise:20180721T220000
DTSTAMP;TZID=America/Boise:20171107T100124
SUMMARY:Irvine/Burns Wedding – Roseberry Barn 50PAX (max) 1 shuttle bus H
 EM 8819
URL:https://goharlowsmccall.com/events/irvineburns-wedding-roseberry-barn-1
 00pax/
END:VEVENT
END:VCALENDAR