BEGIN:VCALENDAR
VERSION:2.0
PRODID:-//RIGHTHERE//CALENDARIZE IT V3.2//EN
BEGIN:VTIMEZONE
TZID:America/Boise
BEGIN:STANDARD
DTSTART:20251102T080000
TZOFFSETFROM:-0600
TZOFFSETTO:-0700
TZNAME:MST
END:STANDARD
BEGIN:DAYLIGHT
DTSTART:20260308T090000
TZOFFSETFROM:-0700
TZOFFSETTO:-0600
TZNAME:MDT
END:DAYLIGHT
BEGIN:STANDARD
DTSTART:20261101T080000
TZOFFSETFROM:-0600
TZOFFSETTO:-0700
TZNAME:MST
END:STANDARD
END:VTIMEZONE
BEGIN:VEVENT
UID:7290-events@goharlowsmccall.com
DTSTART;TZID=America/Boise:20180915T150000
DTEND;TZID=America/Boise:20180915T220000
DTSTAMP;TZID=America/Boise:20171108T141938
SUMMARY:Larsen/Davis Wedding – Blackhawk on the River 50PAX\, DeM 4225\, 
 JaT 3197
URL:https://goharlowsmccall.com/events/larsendavis-wedding-blackhawk-on-the
 -river-50pax/
END:VEVENT
END:VCALENDAR