BEGIN:VCALENDAR
VERSION:2.0
PRODID:-//RIGHTHERE//CALENDARIZE IT V3.2//EN
BEGIN:VTIMEZONE
TZID:America/Boise
BEGIN:STANDARD
DTSTART:20251102T080000
TZOFFSETFROM:-0600
TZOFFSETTO:-0700
TZNAME:MST
END:STANDARD
BEGIN:DAYLIGHT
DTSTART:20260308T090000
TZOFFSETFROM:-0700
TZOFFSETTO:-0600
TZNAME:MDT
END:DAYLIGHT
BEGIN:STANDARD
DTSTART:20261101T080000
TZOFFSETFROM:-0600
TZOFFSETTO:-0700
TZNAME:MST
END:STANDARD
END:VTIMEZONE
BEGIN:VEVENT
UID:7369-events@goharlowsmccall.com
DTSTART;TZID=America/Boise:20180811T120000
DTEND;TZID=America/Boise:20180811T000000
DTSTAMP;TZID=America/Boise:20171127T150035
SUMMARY:Bohman/Schweitzer Wedding – Local Hotels to River Ranch 125PAX 2 
 bus/1 People Mover\, JIB\, JAT\, HEM
URL:https://goharlowsmccall.com/events/bohmanschweitzer-wedding-local-hotel
 s-to-river-ranch-125pax/
END:VEVENT
END:VCALENDAR