BEGIN:VCALENDAR
VERSION:2.0
PRODID:-//RIGHTHERE//CALENDARIZE IT V3.2//EN
BEGIN:VTIMEZONE
TZID:America/Boise
BEGIN:STANDARD
DTSTART:20251102T080000
TZOFFSETFROM:-0600
TZOFFSETTO:-0700
TZNAME:MST
END:STANDARD
BEGIN:DAYLIGHT
DTSTART:20260308T090000
TZOFFSETFROM:-0700
TZOFFSETTO:-0600
TZNAME:MDT
END:DAYLIGHT
BEGIN:STANDARD
DTSTART:20261101T080000
TZOFFSETFROM:-0600
TZOFFSETTO:-0700
TZNAME:MST
END:STANDARD
END:VTIMEZONE
BEGIN:VEVENT
UID:7371-events@goharlowsmccall.com
DTSTART;TZID=America/Boise:20180818T150000
DTEND;TZID=America/Boise:20180818T000000
DTSTAMP;TZID=America/Boise:20171127T150530
SUMMARY:Bainbridge/Crisler Wedding – No Business Lodge 35 PAX\, VIH
URL:https://goharlowsmccall.com/events/bainbridgecrisler-wedding-no-busines
 s-lodge-35-pax/
END:VEVENT
END:VCALENDAR