BEGIN:VCALENDAR
VERSION:2.0
PRODID:-//RIGHTHERE//CALENDARIZE IT V3.2//EN
BEGIN:VTIMEZONE
TZID:America/Boise
BEGIN:STANDARD
DTSTART:20251102T080000
TZOFFSETFROM:-0600
TZOFFSETTO:-0700
TZNAME:MST
END:STANDARD
BEGIN:DAYLIGHT
DTSTART:20260308T090000
TZOFFSETFROM:-0700
TZOFFSETTO:-0600
TZNAME:MDT
END:DAYLIGHT
BEGIN:STANDARD
DTSTART:20261101T080000
TZOFFSETFROM:-0600
TZOFFSETTO:-0700
TZNAME:MST
END:STANDARD
END:VTIMEZONE
BEGIN:VEVENT
UID:7512-events@goharlowsmccall.com
DTSTART;TZID=America/Boise:20180830T223000
DTEND;TZID=America/Boise:20180830T000000
DTSTAMP;TZID=America/Boise:20171220T162120
SUMMARY:Rudolph/Josephson Wedding-Paradise Point to Yacht Club 2buses 25PAX
 JeO & MiA
URL:https://goharlowsmccall.com/events/rudolphjosephson-wedding-paradise-po
 int-to-yacht-club-2buses-25pax/
END:VEVENT
END:VCALENDAR