BEGIN:VCALENDAR
VERSION:2.0
PRODID:-//RIGHTHERE//CALENDARIZE IT V3.2//EN
BEGIN:VTIMEZONE
TZID:America/Boise
BEGIN:STANDARD
DTSTART:20251102T080000
TZOFFSETFROM:-0600
TZOFFSETTO:-0700
TZNAME:MST
END:STANDARD
BEGIN:DAYLIGHT
DTSTART:20260308T090000
TZOFFSETFROM:-0700
TZOFFSETTO:-0600
TZNAME:MDT
END:DAYLIGHT
BEGIN:STANDARD
DTSTART:20261101T080000
TZOFFSETFROM:-0600
TZOFFSETTO:-0700
TZNAME:MST
END:STANDARD
END:VTIMEZONE
BEGIN:VEVENT
UID:7582-events@goharlowsmccall.com
DTSTART;TZID=America/Boise:20180720T213000
DTEND;TZID=America/Boise:20180720T231500
DTSTAMP;TZID=America/Boise:20180111T151800
SUMMARY:McGourty/Fraser Wedding-River Ranch 100PAX 1 shuttle bus – NiS
URL:https://goharlowsmccall.com/events/mcgourtyfraser-wedding-river-ranch-1
 00pax-1-shuttle-bus/
END:VEVENT
END:VCALENDAR