BEGIN:VCALENDAR
VERSION:2.0
PRODID:-//RIGHTHERE//CALENDARIZE IT V3.2//EN
BEGIN:VTIMEZONE
TZID:America/Boise
BEGIN:STANDARD
DTSTART:20251102T080000
TZOFFSETFROM:-0600
TZOFFSETTO:-0700
TZNAME:MST
END:STANDARD
BEGIN:DAYLIGHT
DTSTART:20260308T090000
TZOFFSETFROM:-0700
TZOFFSETTO:-0600
TZNAME:MDT
END:DAYLIGHT
BEGIN:STANDARD
DTSTART:20261101T080000
TZOFFSETFROM:-0600
TZOFFSETTO:-0700
TZNAME:MST
END:STANDARD
END:VTIMEZONE
BEGIN:VEVENT
UID:838-events@goharlowsmccall.com
DTSTART;TZID=America/Boise:20160122T103000
DTEND;TZID=America/Boise:20160122T000000
DTSTAMP;TZID=America/Boise:20160105T125002
SUMMARY:BOISE SCHOOLS –  RETURN TRIP TO BOISE – JUAN # 54 – Wayne –
 Sub*
DESCRIPTION:Pick up the group from the MOSS Outdoor School in Ponderosa Par
 k and take them back to their school in Boise.
URL:https://goharlowsmccall.com/events/boise-schools-return-trip-to-boise-j
 uan-54/
LOCATION:Boise
END:VEVENT
END:VCALENDAR