BEGIN:VCALENDAR
VERSION:2.0
PRODID:-//RIGHTHERE//CALENDARIZE IT V3.2//EN
BEGIN:VTIMEZONE
TZID:America/Boise
BEGIN:STANDARD
DTSTART:20251102T080000
TZOFFSETFROM:-0600
TZOFFSETTO:-0700
TZNAME:MST
END:STANDARD
BEGIN:DAYLIGHT
DTSTART:20260308T090000
TZOFFSETFROM:-0700
TZOFFSETTO:-0600
TZNAME:MDT
END:DAYLIGHT
BEGIN:STANDARD
DTSTART:20261101T080000
TZOFFSETFROM:-0600
TZOFFSETTO:-0700
TZNAME:MST
END:STANDARD
END:VTIMEZONE
BEGIN:VEVENT
UID:840-events@goharlowsmccall.com
DTSTART;TZID=America/Boise:20160213T150000
DTEND;TZID=America/Boise:20160213T000000
DTSTAMP;TZID=America/Boise:20160105T142055
SUMMARY:McENTEE-SALB WEDDING – SHORE LODGE – JIM #4225
DESCRIPTION:PAX 50 - Use a 25 passenger PM with a couple of trips. Pick up 
 at Holiday Inn and take them to Shore Lodge. Wait until 3:15 for straggler
 s. Wedding is at 4:00pm. Is only taking to Shore Lodge\, no return later
URL:https://goharlowsmccall.com/events/salb-wedding-shore-lodge/
LOCATION:McCall
END:VEVENT
END:VCALENDAR