BEGIN:VCALENDAR
VERSION:2.0
PRODID:-//RIGHTHERE//CALENDARIZE IT V3.2//EN
BEGIN:VTIMEZONE
TZID:America/Boise
BEGIN:STANDARD
DTSTART:20251102T080000
TZOFFSETFROM:-0600
TZOFFSETTO:-0700
TZNAME:MST
END:STANDARD
BEGIN:DAYLIGHT
DTSTART:20260308T090000
TZOFFSETFROM:-0700
TZOFFSETTO:-0600
TZNAME:MDT
END:DAYLIGHT
BEGIN:STANDARD
DTSTART:20261101T080000
TZOFFSETFROM:-0600
TZOFFSETTO:-0700
TZNAME:MST
END:STANDARD
END:VTIMEZONE
BEGIN:VEVENT
UID:859-events@goharlowsmccall.com
DTSTART;TZID=America/Boise:20160213T200000
DTEND;TZID=America/Boise:20160213T230000
DTSTAMP;TZID=America/Boise:20160106T133114
SUMMARY:Steblein-Anchustegui Wedding – North Fork Lodge – JIM #4225
DESCRIPTION:They are expecting 75-90 guests. They want transportation for t
 hose that want it between the lodge and their homes or hotels to be done b
 y 11:00pm. Contact person: Kelli 208-377-9204
URL:https://goharlowsmccall.com/events/steblein-anchustegui-wedding-north-f
 ork-lodge-4225/
LOCATION:McCall
END:VEVENT
END:VCALENDAR