BEGIN:VCALENDAR
VERSION:2.0
PRODID:-//RIGHTHERE//CALENDARIZE IT V3.2//EN
BEGIN:VTIMEZONE
TZID:America/Boise
BEGIN:STANDARD
DTSTART:20251102T080000
TZOFFSETFROM:-0600
TZOFFSETTO:-0700
TZNAME:MST
END:STANDARD
BEGIN:DAYLIGHT
DTSTART:20260308T090000
TZOFFSETFROM:-0700
TZOFFSETTO:-0600
TZNAME:MDT
END:DAYLIGHT
BEGIN:STANDARD
DTSTART:20261101T080000
TZOFFSETFROM:-0600
TZOFFSETTO:-0700
TZNAME:MST
END:STANDARD
END:VTIMEZONE
BEGIN:VEVENT
UID:8922-events@goharlowsmccall.com
DTSTART;TZID=America/Boise:20180609T124500
DTEND;TZID=America/Boise:20180609T000000
DTSTAMP;TZID=America/Boise:20180605T075953
SUMMARY:Eldfrick Wedding- Brundage Ski Resort-Huckleberry Campground-170Pax
 - LaS-#4225
URL:https://goharlowsmccall.com/events/eldfrick-wedding-brundage-ski-resort
 -huckleberry-campground-170pax-4225/
END:VEVENT
END:VCALENDAR