BEGIN:VCALENDAR
VERSION:2.0
PRODID:-//RIGHTHERE//CALENDARIZE IT V3.2//EN
BEGIN:VTIMEZONE
TZID:America/Boise
BEGIN:STANDARD
DTSTART:20251102T080000
TZOFFSETFROM:-0600
TZOFFSETTO:-0700
TZNAME:MST
END:STANDARD
BEGIN:DAYLIGHT
DTSTART:20260308T090000
TZOFFSETFROM:-0700
TZOFFSETTO:-0600
TZNAME:MDT
END:DAYLIGHT
BEGIN:STANDARD
DTSTART:20261101T080000
TZOFFSETFROM:-0600
TZOFFSETTO:-0700
TZNAME:MST
END:STANDARD
END:VTIMEZONE
BEGIN:VEVENT
UID:893-events@goharlowsmccall.com
DTSTART;TZID=America/Boise:20160218T140000
DTEND;TZID=America/Boise:20160218T000000
DTSTAMP;TZID=America/Boise:20160111T130103
SUMMARY:TREASURE VALLEY BAPTIST – BOISE TO DONNELLY – JUAN #55
DESCRIPTION:PAX _ 44  -  Pick up location:1300 S Teare Ave\, Meridian\, ID 
 83642. Drop them at Camp Cascade at 1719 West Roseberry Rd\, Donnelly -  .
 Contact person: Jared Doty 208.941.4225
URL:https://goharlowsmccall.com/events/treasure-valley-baptist-boise-to-don
 nelly/
LOCATION:Boise
END:VEVENT
END:VCALENDAR