BEGIN:VCALENDAR
VERSION:2.0
PRODID:-//RIGHTHERE//CALENDARIZE IT V3.2//EN
BEGIN:VTIMEZONE
TZID:America/Boise
BEGIN:STANDARD
DTSTART:20251102T080000
TZOFFSETFROM:-0600
TZOFFSETTO:-0700
TZNAME:MST
END:STANDARD
BEGIN:DAYLIGHT
DTSTART:20260308T090000
TZOFFSETFROM:-0700
TZOFFSETTO:-0600
TZNAME:MDT
END:DAYLIGHT
BEGIN:STANDARD
DTSTART:20261101T080000
TZOFFSETFROM:-0600
TZOFFSETTO:-0700
TZNAME:MST
END:STANDARD
END:VTIMEZONE
BEGIN:VEVENT
UID:895-events@goharlowsmccall.com
DTSTART;TZID=America/Boise:20160221T130000
DTEND;TZID=America/Boise:20160221T000000
DTSTAMP;TZID=America/Boise:20160111T130103
SUMMARY:TREASURE VALLEY BAPTIST – RETURN TO BOISE – JUAN #55
EXDATE:20160218T203000Z
URL:https://goharlowsmccall.com/events/treasure-valley-baptist-return-to-bo
 ise/
LOCATION:Boise
END:VEVENT
END:VCALENDAR