BEGIN:VCALENDAR
VERSION:2.0
PRODID:-//RIGHTHERE//CALENDARIZE IT V3.2//EN
BEGIN:VTIMEZONE
TZID:America/Boise
BEGIN:STANDARD
DTSTART:20251102T080000
TZOFFSETFROM:-0600
TZOFFSETTO:-0700
TZNAME:MST
END:STANDARD
BEGIN:DAYLIGHT
DTSTART:20260308T090000
TZOFFSETFROM:-0700
TZOFFSETTO:-0600
TZNAME:MDT
END:DAYLIGHT
BEGIN:STANDARD
DTSTART:20261101T080000
TZOFFSETFROM:-0600
TZOFFSETTO:-0700
TZNAME:MST
END:STANDARD
END:VTIMEZONE
BEGIN:VEVENT
UID:933-events@goharlowsmccall.com
DTSTART;TZID=America/Boise:20160123T214500
DTEND;TZID=America/Boise:20160123T230000
DTSTAMP;TZID=America/Boise:20160120T115319
SUMMARY:SZYBURA – ATHONY WEDDING – BLACKHAWK LODGE
DESCRIPTION:PAX 35 - 40  -  Just a one way trip home from the reception. Th
 is is at Blackhawk on the River Lodge. Left side of the road on West Mt. R
 oad. Everyone can be let off at Hotel McCall.
URL:https://goharlowsmccall.com/events/szybura-athony-wedding-blackhawk-lod
 ge/
LOCATION:McCall
END:VEVENT
END:VCALENDAR