BEGIN:VCALENDAR
VERSION:2.0
PRODID:-//RIGHTHERE//CALENDARIZE IT V3.2//EN
BEGIN:VTIMEZONE
TZID:America/Boise
BEGIN:STANDARD
DTSTART:20251102T080000
TZOFFSETFROM:-0600
TZOFFSETTO:-0700
TZNAME:MST
END:STANDARD
BEGIN:DAYLIGHT
DTSTART:20260308T090000
TZOFFSETFROM:-0700
TZOFFSETTO:-0600
TZNAME:MDT
END:DAYLIGHT
BEGIN:STANDARD
DTSTART:20261101T080000
TZOFFSETFROM:-0600
TZOFFSETTO:-0700
TZNAME:MST
END:STANDARD
END:VTIMEZONE
BEGIN:VEVENT
UID:9537-events@goharlowsmccall.com
DTSTART;TZID=America/Boise:20180716T120000
DTEND;TZID=America/Boise:20180716T000000
DTSTAMP;TZID=America/Boise:20180713T114101
SUMMARY:ACTION WHITEWATER\, CAREY CREEK TO HOLIDAY INN MCCALL\, 22 PAX JAT 
 #4
URL:https://goharlowsmccall.com/events/action-whitewater-carey-creek-to-hol
 iday-inn-mccall-22-pax/
ORGANIZER;CN=AWA - Action White Water Adventures:
END:VEVENT
END:VCALENDAR